BEGIN:VCALENDAR
VERSION:2.0
PRODID:-//wp-events-plugin.com//6.6.5//EN
BEGIN:VEVENT
UID:850@suomenniemi.fi
DTSTART;TZID=Asia/Aden:20241106T080000
DTEND;TZID=Asia/Aden:20241106T100000
DTSTAMP:20241014T092235Z
URL:https://suomenniemi.fi/tapahtumat/yritysten-aamukahvit-klo-8-10-kahvil
 a-ravintola-rantabaarissa/
SUMMARY:Yritysten aamukahvit klo 8-10 Kahvila-Ravintola Rantabaarissa
DESCRIPTION:\n\nYritysten aamukahvit seututaajamissa tulevat taas! Aiheina 
 tällä kertaa on rahoitus ja yrityspalvelujen kuulumiset.\nMukana on myö
 s kaupungin teiden kunnossapidon sekä paikallisen yrittäjäyhdistyksen e
 dustus.\nTule mukaan keskustelemaan ajankohtaisista asioista ja tapaamaan 
 muita yrittäjiä.\n\nAika: Keskiviikkona 6.11.2024 klo 8-10\n\nPaikka: Ka
 hvila-Ravintola Rantabaari\, Lappeenrannantie 2132a\n\nLisätietoa ja ilmo
 ittautuminen 4.11.2024 mennessä\n\nJärjestäjä: Mikkelin kehitysyhtiö 
 Miksei Oy
END:VEVENT
BEGIN:VTIMEZONE
TZID:Asia/Aden
X-LIC-LOCATION:Asia/Aden
BEGIN:STANDARD
DTSTART:20231107T080000
TZOFFSETFROM:+0300
TZOFFSETTO:+0300
TZNAME:+03
END:STANDARD
END:VTIMEZONE
END:VCALENDAR