BEGIN:VCALENDAR
VERSION:2.0
PRODID:-//wp-events-plugin.com//6.6.5//EN
BEGIN:VEVENT
UID:500@suomenniemi.fi
DTSTART;TZID=Asia/Aden:20230617T130000
DTEND;TZID=Asia/Aden:20230617T150000
DTSTAMP:20230510T095106Z
URL:https://suomenniemi.fi/tapahtumat/yhteislaulua-lyytikkalan-talo-museol
 la-klo-13/
SUMMARY:Yhteislaulua Lyytikkälän talo -museolla klo 13
DESCRIPTION:Yhteislaulua\nVesa Erkkilän johdolla\, arvontaa\n\nAika: Lauan
 taina 17.6.2023 klo 13\n\nPaikka: Lyytikkälän talo -museo\, Pajulahdenti
 e 17\n\nJärjestäjä: Lyytikkälän talo -säätiö
END:VEVENT
BEGIN:VTIMEZONE
TZID:Asia/Aden
X-LIC-LOCATION:Asia/Aden
BEGIN:STANDARD
DTSTART:20220617T130000
TZOFFSETFROM:+0300
TZOFFSETTO:+0300
TZNAME:+03
END:STANDARD
END:VTIMEZONE
END:VCALENDAR