BEGIN:VCALENDAR
VERSION:2.0
PRODID:-//wp-events-plugin.com//6.6.5//EN
BEGIN:VEVENT
UID:1171@suomenniemi.fi
DTSTART:20260509T183000Z
DTEND:20260509T210000Z
DTSTAMP:20260422T071410Z
URL:https://suomenniemi.fi/tapahtumat/visailu-klo-20-30-temmin-tuvalla-2/
SUMMARY:Visailu klo 20.30 Temmin tuvalla
DESCRIPTION:
END:VEVENT
END:VCALENDAR