BEGIN:VCALENDAR
VERSION:2.0
PRODID:-//wp-events-plugin.com//6.6.5//EN
BEGIN:VEVENT
UID:1172@suomenniemi.fi
DTSTART:20260430T160000Z
DTEND:20260430T180000Z
DTSTAMP:20260422T070915Z
URL:https://suomenniemi.fi/tapahtumat/vapputori-klo-18-nuorisoseuratalolla
 /
SUMMARY:Vapputori klo 18 Nuorisoseuratalolla
DESCRIPTION:
END:VEVENT
END:VCALENDAR