BEGIN:VCALENDAR
VERSION:2.0
PRODID:-//wp-events-plugin.com//6.6.5//EN
BEGIN:VEVENT
UID:308@suomenniemi.fi
DTSTART:20220208T060000Z
DTEND:20220208T080000Z
DTSTAMP:20220127T055126Z
URL:https://suomenniemi.fi/tapahtumat/terveys-ja-hyvinvointiauto-reissuell
 u-pysahtyy-metsatahdessa-klo-9-11-30-2/
SUMMARY:Terveys- ja hyvinvointiauto ReissuEllu pysähtyy Metsätähdessä k
 lo 9-11
DESCRIPTION:Terveys- ja hyvinvointiauto ReissuEllu pysähtyy Metsätähdess
 ä\nTiistaina 8.2.2022 klo 9-11\n\nTule paikalle terveenä ja tutustu Reis
 suElluun!\n\nMuistilista ReissuElluun saapuville:\n- tule paikalle vain te
 rveenä\n- muista turvaväli\n- muista hyvä käsihygienia\n- yski kertak
 äyttönenäliinaan tai hihaan\n- Essote suosittelee kasvomaskin käyttö
 ä\n\nPidätämme oikeuden aikataulujen muutoksiin ja palvelun tarjonnan p
 erumiseen esim. koronatilanteen muuttuessa.\n\nLisätietoja: Projektipää
 llikkö Teija Räihä\, teija.raiha@esedu.fi\, puh. 044 711 5826
END:VEVENT
END:VCALENDAR