BEGIN:VCALENDAR
VERSION:2.0
PRODID:-//wp-events-plugin.com//6.6.5//EN
BEGIN:VEVENT
UID:1167@suomenniemi.fi
DTSTART:20260723T220000Z
DTEND:20260725T220000Z
DTSTAMP:20260422T111139Z
URL:https://suomenniemi.fi/tapahtumat/suomenniemi-paivat-2/
SUMMARY:Suomenniemi-päivät
DESCRIPTION:Suomenniemi-päivien 24.-26.7.2026 alustavaa ohjelmaa\nMaananta
 ista 20.7. alkaen\n\nMyllysillan pysäköintialue\, Kirkonkyläntie 290\nL
 innunpelätinnäyttely\nRakenna oma linnunpelättimesi pysäköintialueen 
 koivujen väliin\, haasta naapurisi ja kaverisi mukaan rakentamaan!\n\n&nb
 sp\;\n\nKeskiviikko 22.7.\n\nMyllysillan tanssilava\, Kirkonkyläntie 290\
 nklo 18-22 Tanssit\nEsiintyjänä Finlanders.\nLiput 20 € käteinen / ko
 rtti / Smartum / Epassi\nMyllysillan lava\n\n&nbsp\;\n\nPerjantai 24.7.\n\
 nFrisbeegolfpuisto\, Opinraitti 30\nklo 17.30 Frisbeegolf-kilpailut\nSuome
 nniemen frisbeegolfpuiston aktiivit\n\n&nbsp\;\n\nLauantai 25.7.\n\nMyllys
 ilta\, Kirkonkyläntie 290\nklo 10 Suomenniemi-päivien avaus\nLipunnosto\
 nJuhlapuhe maakuntajohtaja Heini Utunen\nAkro sisters esiintyy\nDuo Orvokk
 i esiintyy\n\nMetsätaitokilpailu\nklo 10 Ilmoittautuminen\nklo 11 Kilpail
 u alkaa\nPalkintojen jako tuloslaskennan päätyttyä\nMHY Mänty-Saimaa j
 a Kauriansalmen kylät\n\nArpajaiset\nSuomenniemen kotiseutuyhdistys\n\nMy
 ynnissä syötävää ja juotavaa\nklo 9–15 Nokipannukahvia ja muurinpoh
 jalettuja\nKauriansalmen kylät\n\nklo 11 alkaen Hernekeittoa soppatykist
 ä\nTrampbikers\n\nklo 11 ja klo 14 Moottorisahausnäytös\nHannu Kilkki\n
 \nKahvila-Leipomo VeVe\, Kirkonkyläntie 17\nAvoinna klo 10–16\nklo 10 a
 lkaen tori\nklo 11–14 lounas\nklo 10–16 kahvio\n\nKirkonkyläntie – 
 ent. pankin\, päiväkodin ja Salen piha-alueet\nklo 11–16 Kyläkirppis 
 ja tori\nEi paikkavarauksia\, myyntipaikat merkitty\nKäenjälki ry\n\nklo
  11-15 Tietoa pienpetopyynnistä ja vieraslajeista\nNähtävillä pienpeto
 loukkuja\, täytettyjä eläimiä\nSavitaipaleen-Suomenniemen riistanhoito
 yhdistys\n\nNikkisen torppa\, Opinraitti 8\nklo 11–16 Vuosinäyttely: La
 mmasta monella tavalla\nArpajaiset museotuvassa\nSuomenniemen Kotiseutuyhd
 istys\n\nklo 11–16 Marttojen tuliaistori ja arpajaiset\nSuomenniemen Mar
 tat\n\nNuorisoseuratalo Kirkonkyläntie 15\nklo 11–16 Kirjontatöiden n
 äyttely\nMyynnissä Kirjontamalleja Suomenniemeltä -kirjoja\, 25 €\, k
 äteismaksu\nSuomenniemen Käsityökerho\n\nSuomenniemen kirkko\, Suomenky
 läntie 12\nklo 11–15 Kirkko ja kellotapuli avoinna tutustumista varten\
 nSuomenniemen alueseurakunta\, oppaina Matti ja Irene Wirilander\n\nklo 14
  Suomenniemen kirkon taideaarteet\nEsittelijänä rovasti Riitta Kuusi. Ur
 kusooloja\, musiikkineuvos Matti-Veikko Kuusi\, vapaa pääsy\n\nTeklan k
 äsityöaitta\, Kauriansalmen rantatori\, Lappeenrannantie 2132\nklo 11–
 15 Myynnissä paikallisia käsi- ja puutöitä sekä muita tuotteita\n\nMe
 tsätähti\, Opinraitti 9\nklo 10 – 14 Maksuton In Body -kehonkoostumusm
 ittaus ja Lymfa Touch -alipainehoidon esittely ja maksuton kokeilu. Käyte
 tään mm. turvotuksen\, kivun ja arpikudosten hoitoon\, sekä fasciakäsi
 ttelyyn. Toiminnan esittelyä. Vastaamme myös fysioterapiaan ja kuntoutuk
 seen liittyviin kysymyksiin.\nSavikunto Oy\n\nLyytikkälän talomuseo\, Pa
 julahdentie 17\nklo 12–17 Lasten Lyytikkälä\nklo 13 Lasten oma museoki
 erros (kesto n. 30min). Rastirata omaan tahtiin koko aukiolon ajan ja palk
 innot radan suorittajille. Aikuisetkin mukaan museomaksulla 5 € (yli 18 
 v.) tai Museokortilla.\n\nWilla Väärä\, Suomenkyläntie 258\nklo 12–1
 8 Avoimet ovet ja pihakirppis\nPihakirppiksen tuotot Suomenniemen nuorisos
 euran hyväksi.\n\nUrheilukenttä\, Venttiväylä\nklo 13 Puujalkakävelyn
  MM-kilpailut\nOsallistujien Ilmoittautuminen paikan päällä klo 12.30 a
 lkaen\nTorialueen kahvio palvelee urheilukentän läheisyydessä\nSuomenni
 emen Urheilijat ry\n\nklo 15 Jalkapallo-ottelu paikalliset vs. vapaa-ajan 
 asukkaat\nPelaajien ilmoittautuminen paikan päällä puoli tuntia ennen o
 ttelun alkua.\nPelaajien alaikäraja 15 v.\nTorialueen kahvio palvelee urh
 eilukentän läheisyydessä.\nSuomenniemen Urheilijat\n\nTemmin Tupa\, Kir
 konkyläntie 18\nAvoinna 10–01\nklo 18 Puistokonsertti\nEsiintyjänä Nu
 rkkaorkesteri\, vapaa pääsy\nMikkelin kaupungin kulttuuripalvelut ja Kä
 enjälki ry\n\nRantabaari\, Lappeenrannantie 2132\nAvoinna 10–01\n\n&nbs
 p\;\n\nSunnuntai 26.7.\n\nSuomenniemen kirkko\, Suomenkyläntie 12\nklo 10
  Messu\nKirkkokahvit tuliaistorilla Nikkisen torpalla\nSuomenniemen aluese
 urakunta ja Suomenniemen Martat\n\nklo 13 Kirkkokonsertti\nEsiintyjänä K
 ultainen Harmonikka 2021 -voittaja Vilma Wiren. Kirkkokonsertin monipuolis
 essa ohjelmistossa on barokkisävellyksiä mm. Bachilta ja Scarlattilta se
 kä uudempaa harmonikkamusiikkia Franck Angelikselta ja Martin Lohselta.\n
 Suomenniemen alueseurakunta\n\nKahvila-Leipomo VeVe\, Kirkonkyläntie 17\n
 Avoinna klo 10–16\nklo 10–16 kahvio\nklo 11–14 lounas\n\nNikkisen to
 rppa\, Opinraitti 8\nklo 11–16 Vuosinäyttely: Lammasta monella tavalla\
 nArpajaiset museotuvassa\nSuomenniemen kotiseutuyhdistys\n\nklo 11–16 Ma
 rttojen tuliaistori ja arpajaiset\nSuomenniemen Martat\n\nTeklan käsityö
 aitta\, Kauriansalmen rantatori\, Lappeenrannantie 2132\nklo 11–15 Myynn
 issä paikallisia käsi- ja puutöitä sekä muita tuotteita\n\nNuorisoseu
 ratalo\, Kirkonkyläntie 15\nklo ? Suomenniemen historiaa - kävelykierros
 \nKoontuminen Nuorisoseuratalon pihalla\, josta lähtö kävelykierroksell
 e.\nKierroksen aikana tavataan Suomenniemen historiasta tuttuja henkilöit
 ä.\nKesto n. 1 tunti\nSuomenniemen Nuorisoseura
END:VEVENT
END:VCALENDAR