BEGIN:VCALENDAR
VERSION:2.0
PRODID:-//wp-events-plugin.com//6.6.5//EN
BEGIN:VEVENT
UID:198@suomenniemi.fi
DTSTART:20200312T140000Z
DTEND:20200312T160000Z
DTSTAMP:20200220T065926Z
URL:https://suomenniemi.fi/tapahtumat/suomenniemen-valokuituverkon-infotil
 aisuus-12-3-2020-klo-17-19/
SUMMARY:Suomenniemen valokuituverkon infotilaisuus 12.3.2020 klo 17-19
DESCRIPTION:Suomenniemen valokuituverkon info-tilaisuus\nTorstaina 12.3.202
 0klo 17-19 Kahvila-Ravintola Salmenrannassa\,Lappeenrannantie 2132\, Suome
 nniemi\n\nTule kuulemaan\, miten Suomenniemenvalokuituverkon rakentamishan
 ke on edennyt\, ja miten rakentaminen jatkuu keväällä. Voit myös kysy
 ä sinua askarruttavista verkon rakentamiseen liittyvistä asioista.\n\nSu
 omenniemen valokuituverkkoon on tehty jo 76 liittymissopimusta(tilanne 14.
 2.2020). -Sopimuksen tekoedulliseen hintaan on vielä toistaiseksi mahdoll
 istakäynnissä olevan hankkeen 70 % tuella 28 liittymälle.\n\nTee liitty
 missopimus ottamalla pikaisesti yhteyttä Suomenniemen valokuituaktiiveihi
 n\, tai tule tekemään sopimusinfo-tilaisuuteen!\n\nKauriansalmenkylät r
 y tarjoaa info-tilaisuuteen osallistuville kahvit.\n\nYstävällisin terve
 isin\n\nSuomenniemen valokuituaktiivien ja Saimaan Kuitu Oy:n puolesta\n\n
 Taisto Hirvonen\n\np. 050 3890987
END:VEVENT
END:VCALENDAR