BEGIN:VCALENDAR
VERSION:2.0
PRODID:-//wp-events-plugin.com//6.6.5//EN
BEGIN:VEVENT
UID:1166@suomenniemi.fi
DTSTART:20260613T080000Z
DTEND:20260613T110000Z
DTSTAMP:20260420T085049Z
URL:https://suomenniemi.fi/tapahtumat/suomenniemen-toimijatori-klo-10-13-n
 uorisoseuratalolla/
SUMMARY:Suomenniemen toimijatori klo 10-13 Nuorisoseuratalolla
DESCRIPTION:Suomenniemen Toimijatori\nToimijatori-tapahtuma tekee näkyväk
 si Suomenniemen aktiivisen toimijakentän sekä tarjoaa kohtaamispaikan al
 ueen asukkaille ja kesävieraille.\n\nAika: Lauantaina 13.6.2026 klo 10–
 13\n\nPaikka: Nuorisoseuratalo sekä sen piha-alue\,  Kirkonkyläntie 15.
 \n\nSamana päivänä vietetään valtakunnallista Kyläkauppapäivää se
 kä Avoimet kylät -päivää.\n\nTapahtuman ohjelmassa on mm:\n\n 	toimij
 oiden esittelyjä\n 	pieniä ohjelmanumeroita\n 	kahvio\, makkaraa\, torit
 uotteita\n\nMukana tapahtumassa ovat mm. paikalliset yhdistykset\, kirjast
 o\, urheiluseura\, kyläyhdistykset\, käsityötoimijat sekä yrittäjät.
 \n\nToivotamme myös teidät lämpimästi mukaan!\n\nTapahtuman järjestä
 jänä ja koordinoijana toimii Käenjälki ry sekä Suomenniemen aluejohto
 kunta.
END:VEVENT
END:VCALENDAR