BEGIN:VCALENDAR
VERSION:2.0
PRODID:-//wp-events-plugin.com//6.6.5//EN
BEGIN:VEVENT
UID:1@suomenniemi.fi
DTSTART;VALUE=DATE:20180428
DTEND;VALUE=DATE:20180429
DTSTAMP:20180420T135847Z
URL:https://suomenniemi.fi/tapahtumat/suomenniemen-nuorisoseuran-naytelma-
 kahden-naisen-putkiremppa-klo-15-lippuvaraukset-p-0400-405-280/
SUMMARY:Suomenniemen nuorisoseuran näytelmä Kahden naisen putkiremppa klo
  15.		Lippuvaraukset p. 0400 405 280.
DESCRIPTION:
END:VEVENT
END:VCALENDAR