BEGIN:VCALENDAR
VERSION:2.0
PRODID:-//wp-events-plugin.com//6.6.5//EN
BEGIN:VEVENT
UID:1168@suomenniemi.fi
DTSTART:20260425T080000Z
DTEND:20260425T100000Z
DTSTAMP:20260422T065859Z
URL:https://suomenniemi.fi/tapahtumat/siivoustalkoot-kauriansalmella-ja-ma
 isematornilla-klo-10/
SUMMARY:Siivoustalkoot Kauriansalmella ja Maisematornilla klo 10
DESCRIPTION:\nSiivoustalkoot Kauriansalmella ja Maisematornilla\nAika: laua
 ntaina 25.4.2026 klo 10 alkaen\nKokoontuminen klo 9 tornin parkkipaikalla\
 , jossa jaetaan siivottavat alueet - teiden varret\, Kauriansalmen alue ja
  tornin ympäristö.\n\n\nTalkoolaisille on varattuna roskapusseja\, joten
  mukaan tarvitset vain hanskat\, ulkoiluvaatetuksen ja -kengät sekä reip
 asta talkoiluhenkeä! Tarjolla talkookahvit.\n\n\n\n\n\nTervetuloa siistim
 ään ympäristöä yhdessä!\n\n\n\n\n\nJärjestäjä: Kauriansalmen kyl
 ät ry\n
END:VEVENT
END:VCALENDAR