BEGIN:VCALENDAR
VERSION:2.0
PRODID:-//wp-events-plugin.com//6.6.5//EN
BEGIN:VEVENT
UID:691@suomenniemi.fi
DTSTART;TZID=Asia/Aden:20240528T180000
DTEND;TZID=Asia/Aden:20240528T193000
DTSTAMP:20240516T062555Z
URL:https://suomenniemi.fi/tapahtumat/siioninvirsiseurat-klo-18-lusikkanie
 messa/
SUMMARY:Siioninvirsiseurat klo 18 Lusikkaniemessä
DESCRIPTION:Siioninvirsiseurat\nAika: Tiistaina 28.5.2023 klo 18\n\nPaikka:
  Lusikkaniemen leirikeskus\, Karkauksentie 530\n\nJärjestäjä: Suomennie
 men alueseurakunta ja Herättäjäyhdistys\n\n&nbsp\;
END:VEVENT
BEGIN:VTIMEZONE
TZID:Asia/Aden
X-LIC-LOCATION:Asia/Aden
BEGIN:STANDARD
DTSTART:20230529T180000
TZOFFSETFROM:+0300
TZOFFSETTO:+0300
TZNAME:+03
END:STANDARD
END:VTIMEZONE
END:VCALENDAR