BEGIN:VCALENDAR
VERSION:2.0
PRODID:-//wp-events-plugin.com//6.6.5//EN
BEGIN:VEVENT
UID:156@suomenniemi.fi
DTSTART:20190814T150000Z
DTEND:20190814T170000Z
DTSTAMP:20190508T073141Z
URL:https://suomenniemi.fi/tapahtumat/saunailta-lusikkaniemessa-klo-18-6/
SUMMARY:Saunailta Lusikkaniemessä klo 18
DESCRIPTION:Saunailta Lusikkaniemessä klo 18\n\nJärj. Suomenniemen aluese
 urakunta\n\n&nbsp\;
END:VEVENT
END:VCALENDAR