BEGIN:VCALENDAR
VERSION:2.0
PRODID:-//wp-events-plugin.com//6.6.5//EN
BEGIN:VEVENT
UID:119@suomenniemi.fi
DTSTART:20190619T150000Z
DTEND:20190619T170000Z
DTSTAMP:20190426T112547Z
URL:https://suomenniemi.fi/tapahtumat/saunailta-lusikkaniemessa-klo-18-2/
SUMMARY:Saunailta Lusikkaniemessä klo 18
DESCRIPTION:Saunailta Lusikkaniemessä klo 18\n\nKarkauksentie 530\, Suomen
 niemi\n\nJärj. Suomenniemen alueseurakunta\n\n&nbsp\;
END:VEVENT
END:VCALENDAR