BEGIN:VCALENDAR
VERSION:2.0
PRODID:-//wp-events-plugin.com//6.6.5//EN
BEGIN:VEVENT
UID:1160@suomenniemi.fi
DTSTART:20260905T080000Z
DTEND:20260906T100000Z
DTSTAMP:20260420T083424Z
URL:https://suomenniemi.fi/tapahtumat/nyplayksen-alkeet-klo-10-kylatuvalla
 /
SUMMARY:Nypläyksen alkeet klo 10 Kylätuvalla
DESCRIPTION:Nypläyksen alkeet\nAika: Lauantai-sunnuntai 5.-6.9.2026 klo 10
  alkaen\n\nPaikka: Kylätupa\, Kirkonkyläntie 17\n\nIlmoittautuminen: 20.
 8. mennessä Riitu Kiljunen\, puh. 040 567 2173\n\nMaksu: 10 € / osallis
 tuja\, kerholaisilta 4 €\n\nMahdollinen jatko sovitaan paikan päällä.
 \n\nJärjestäjä: Suomenniemen käsityökerho\n\n&nbsp\;
END:VEVENT
END:VCALENDAR