BEGIN:VCALENDAR
VERSION:2.0
PRODID:-//wp-events-plugin.com//6.6.5//EN
BEGIN:VEVENT
UID:906@suomenniemi.fi
DTSTART;TZID=Asia/Aden:20250314T130000
DTEND;TZID=Asia/Aden:20250314T143000
DTSTAMP:20250220T061740Z
URL:https://suomenniemi.fi/tapahtumat/naisten-tuumauspiiri-klo-13-seurakun
 takodilla-4/
SUMMARY:Naisten tuumauspiiri klo 13 seurakuntakodilla
DESCRIPTION:\nNaisten tuumauspiiri\n\n\nAika: perjantaina 14.3.2025 klo 13\
 n\nPaikka: Suomenniemen seurakuntakoti\n\n\n\n\n\nJärjestäjä: Suomennie
 men alueseurakunta\n\n\nTervetuloa Naisten tuumauspiiriin! Jatkossa joka k
 uukauden 2. perjantai.\n\n
END:VEVENT
BEGIN:VTIMEZONE
TZID:Asia/Aden
X-LIC-LOCATION:Asia/Aden
BEGIN:STANDARD
DTSTART:20240314T130000
TZOFFSETFROM:+0300
TZOFFSETTO:+0300
TZNAME:+03
END:STANDARD
END:VTIMEZONE
END:VCALENDAR