BEGIN:VCALENDAR
VERSION:2.0
PRODID:-//wp-events-plugin.com//6.6.5//EN
BEGIN:VEVENT
UID:723@suomenniemi.fi
DTSTART;TZID=Asia/Aden:20240703T180000
DTEND;TZID=Asia/Aden:20240703T200000
DTSTAMP:20240630T164156Z
URL:https://suomenniemi.fi/tapahtumat/myynnissa-paikallisia-kasitoita-ja-m
 uita-tuotteita-klo-18-20-teklan-kasityoaitta-2/
SUMMARY:Myynnissä paikallisia käsitöitä ja muita tuotteita klo 18-20 Te
 klan käsityöaitta
DESCRIPTION:Teklan käsityöaitta\, myynnissä paikallisia käsitöitä ja 
 muita tuotteita\n\nAika: keskiviikkona 3.7.2024 klo 18-20\n\nPaikka: Tekla
 n käsityöaitta\, Kauriansalmen rantatori\, Lappeenrannantie 2132.\n\nHuo
 m! Vain käteismaksu.\n\nJärjestäjä: Suomenniemen käsityökerho ja muu
 t kädentaitajat\n
END:VEVENT
BEGIN:VTIMEZONE
TZID:Asia/Aden
X-LIC-LOCATION:Asia/Aden
BEGIN:STANDARD
DTSTART:20230704T180000
TZOFFSETFROM:+0300
TZOFFSETTO:+0300
TZNAME:+03
END:STANDARD
END:VTIMEZONE
END:VCALENDAR