BEGIN:VCALENDAR
VERSION:2.0
PRODID:-//wp-events-plugin.com//6.6.5//EN
BEGIN:VEVENT
UID:840@suomenniemi.fi
DTSTART;TZID=Asia/Aden:20241031T170000
DTEND;TZID=Asia/Aden:20241031T190000
DTSTAMP:20241010T121505Z
URL:https://suomenniemi.fi/tapahtumat/miesten-ilta-seurakuntakodilla-klo-1
 7/
SUMMARY:Miesten ilta klo 17 seurakuntakodilla
DESCRIPTION:Miesten ilta\nAika: Torstaina 31.10.2024 klo 17\n\nPaikka: Suom
 enniemen seurakuntakoti\n\nJärjestäjä: Suomenniemen alueseurakunta
END:VEVENT
BEGIN:VTIMEZONE
TZID:Asia/Aden
X-LIC-LOCATION:Asia/Aden
BEGIN:STANDARD
DTSTART:20231101T170000
TZOFFSETFROM:+0300
TZOFFSETTO:+0300
TZNAME:+03
END:STANDARD
END:VTIMEZONE
END:VCALENDAR