BEGIN:VCALENDAR
VERSION:2.0
PRODID:-//wp-events-plugin.com//6.6.5//EN
BEGIN:VEVENT
UID:1008@suomenniemi.fi
DTSTART;TZID=Asia/Aden:20250726T130000
DTEND;TZID=Asia/Aden:20250726T150000
DTSTAMP:20250721T092641Z
URL:https://suomenniemi.fi/tapahtumat/martan-paivat-klo-13-jussilassa-2/
SUMMARY:Martan päivät klo 13 Jussilassa
DESCRIPTION:Martan päivät\nAika: Lauantaina 26.7.2025 klo 13\n\nPaikka: J
 ussilan talo\, Rantasuontie 10\n\nJärjestäjät: Saalastin sisarukset -s
 äätiö ja Kiesilä-Pajulahti-Kakkola kyläyhdistys
END:VEVENT
BEGIN:VTIMEZONE
TZID:Asia/Aden
X-LIC-LOCATION:Asia/Aden
BEGIN:STANDARD
DTSTART:20240726T130000
TZOFFSETFROM:+0300
TZOFFSETTO:+0300
TZNAME:+03
END:STANDARD
END:VTIMEZONE
END:VCALENDAR