BEGIN:VCALENDAR
VERSION:2.0
PRODID:-//wp-events-plugin.com//6.6.5//EN
BEGIN:VEVENT
UID:1165@suomenniemi.fi
DTSTART:20261012T110000Z
DTEND:20261012T130000Z
DTSTAMP:20260422T070754Z
URL:https://suomenniemi.fi/tapahtumat/lankojen-purkkivarjaysta-klo-13-kyla
 tuvalla/
SUMMARY:Lankojen purkkivärjäystä klo 13 Kylätuvalla
DESCRIPTION:Lankojen purkkivärjäystä\nAika: Maanantaina 12.10.2026 klo 1
 3\n\nPaikka: Kylätupa\, Kirkonkyläntie 17\n\nIlmoittautuminen: 2.10. men
 nessä Riitu Kiljunen\, puh. 040 567 2173\n\nMaksu: 5 € / osallistuja\, 
 kerholaisilta 2 €.\n\nVärjäyksestä kiinnostuneet voivat varautua ker
 äämällä ja kuivaamalla väriaineita (esim. kelta- ja punasipulin kuori
 a\, koivunlehtiä\, lupiinin lehtiä ja kukkia\, avokadon kuoria ja siemen
 iä\, kiivin kuoria\, viinirypäleen varsia ja siemeniä\, punaisen pelaku
 un kukkia\; periaatteessa samat värikasvit käyvät kuin kuumavärjäykse
 ssäkin) ja hankkimalla kannelisen 2-3 litran lasipurkin tai pari.\n\nJär
 jestäjä: Suomenniemen käsityökerho
END:VEVENT
END:VCALENDAR