BEGIN:VCALENDAR
VERSION:2.0
PRODID:-//wp-events-plugin.com//6.6.5//EN
BEGIN:VEVENT
UID:1169@suomenniemi.fi
DTSTART:20260508T110000Z
DTEND:20260508T120000Z
DTSTAMP:20260422T070129Z
URL:https://suomenniemi.fi/tapahtumat/kirjavinkkauskiertue-kirjastolla-klo
 -13/
SUMMARY:Kirjavinkkauskiertue kirjastolla klo 13
DESCRIPTION:
END:VEVENT
END:VCALENDAR