BEGIN:VCALENDAR
VERSION:2.0
PRODID:-//wp-events-plugin.com//6.6.5//EN
BEGIN:VEVENT
UID:351@suomenniemi.fi
DTSTART:20220604T080000Z
DTEND:20220604T100000Z
DTSTAMP:20220524T094122Z
URL:https://suomenniemi.fi/tapahtumat/kesatori-klo-11-13/
SUMMARY:Kesätori klo 11-13
DESCRIPTION:Kesätori\nAika: lauantaina 4.6.2022 klo 11-13\n\nPaikka: Temmi
 n tuvan piha\, Kirkonkyläntie 18.
END:VEVENT
END:VCALENDAR