BEGIN:VCALENDAR
VERSION:2.0
PRODID:-//wp-events-plugin.com//6.6.5//EN
BEGIN:VEVENT
UID:130@suomenniemi.fi
DTSTART:20190629T070000Z
DTEND:20190629T090000Z
DTSTAMP:20190508T072007Z
URL:https://suomenniemi.fi/tapahtumat/kesatori-kirkonkylalla-4/
SUMMARY:Kesätori kirkonkylällä klo 10-12
DESCRIPTION:Kesätori kirkonkylällä klo 10-12
END:VEVENT
END:VCALENDAR