BEGIN:VCALENDAR
VERSION:2.0
PRODID:-//wp-events-plugin.com//6.6.5//EN
BEGIN:VEVENT
UID:860@suomenniemi.fi
DTSTART;TZID=Asia/Aden:20241207T130000
DTEND;TZID=Asia/Aden:20241207T140000
DTSTAMP:20241127T085435Z
URL:https://suomenniemi.fi/tapahtumat/kauneimmat-joululaulut-klo-15-temmin
 -tuvalla/
SUMMARY:Kauneimmat Joululaulut klo 15 Temmin Tuvalla
DESCRIPTION:Lauletaan yhdessä\nKauneimmat Joululaulut goes Temmin Tupa\nAi
 ka: Lauantaina 7.12.2024 klo 15\n\nPaikka: Temmin tupa\, Kirkonkyläntie 1
 8\n\nJärjestäjä: Suomenniemen alueseurakunta
END:VEVENT
BEGIN:VTIMEZONE
TZID:Asia/Aden
X-LIC-LOCATION:Asia/Aden
BEGIN:STANDARD
DTSTART:20231208T130000
TZOFFSETFROM:+0300
TZOFFSETTO:+0300
TZNAME:+03
END:STANDARD
END:VTIMEZONE
END:VCALENDAR