BEGIN:VCALENDAR
VERSION:2.0
PRODID:-//wp-events-plugin.com//6.6.5//EN
BEGIN:VEVENT
UID:1159@suomenniemi.fi
DTSTART:20260615T080000Z
DTEND:20260615T120000Z
DTSTAMP:20260420T082839Z
URL:https://suomenniemi.fi/tapahtumat/kasityokerhon-betonilehtia-ja-vain-l
 ehtia-klo-10-terttu-tarhosella/
SUMMARY:Käsityökerhon betonilehtiä - ja vain lehtiä klo 10 Terttu Tarho
 sella
DESCRIPTION:Käsityökerhon betonilehtiä - ja vain lehtiä\nAika: Maananta
 ina 15.6.2026 klo 10\n\nPaikka: Terttu Tarhosella\, Pajalampi 10\n\nIlmoit
 tautuminen: 8.6. mennessä.\n\nMaksu:  5 € / osallistuja\, kerholaisill
 e maksutta.\n\nRuokailu nyyttikestinä.\n\nJärjestäjä: Suomenniemen kä
 sityökerho\n\n&nbsp\;
END:VEVENT
END:VCALENDAR