BEGIN:VCALENDAR
VERSION:2.0
PRODID:-//wp-events-plugin.com//6.6.5//EN
BEGIN:VEVENT
UID:1164@suomenniemi.fi
DTSTART:20261207T110000Z
DTEND:20261207T130000Z
DTSTAMP:20260420T083800Z
URL:https://suomenniemi.fi/tapahtumat/kasityokerho-klo-13-kylatuvalla-16/
SUMMARY:Käsityökerho klo 13 Kylätuvalla
DESCRIPTION:Käsityökerho\nAika: Maanantaina 7.12.2026 klo 13\n\nPaikka: K
 ylätupa\, Kirkonkyläntie 17\n\nJärjestäjä: Suomenniemen käsityökerh
 o
END:VEVENT
END:VCALENDAR