BEGIN:VCALENDAR
VERSION:2.0
PRODID:-//wp-events-plugin.com//6.6.5//EN
BEGIN:VEVENT
UID:1163@suomenniemi.fi
DTSTART:20261102T110000Z
DTEND:20261102T130000Z
DTSTAMP:20260420T083726Z
URL:https://suomenniemi.fi/tapahtumat/kasityokerho-klo-13-kylatuvalla-15/
SUMMARY:Käsityökerho klo 13 Kylätuvalla
DESCRIPTION:Käsityökerho\nAika: Maanantaina 2.11.2026 klo 13\n\nPaikka: K
 ylätupa\, Kirkonkyläntie 17\n\nJärjestäjä: Suomenniemen käsityökerh
 o
END:VEVENT
END:VCALENDAR