BEGIN:VCALENDAR
VERSION:2.0
PRODID:-//wp-events-plugin.com//6.6.5//EN
BEGIN:VEVENT
UID:1162@suomenniemi.fi
DTSTART:20261005T110000Z
DTEND:20261005T130000Z
DTSTAMP:20260420T083648Z
URL:https://suomenniemi.fi/tapahtumat/kasityokerho-klo-13-kylatuvalla-14/
SUMMARY:Käsityökerho klo 13 Kylätuvalla
DESCRIPTION:Käsityökerho\nAika: Maanantaina 5.10.2026 klo 13\n\nPaikka: K
 ylätupa\, Kirkonkyläntie 17\n\nJärjestäjä: Suomenniemen käsityökerh
 o
END:VEVENT
END:VCALENDAR