BEGIN:VCALENDAR
VERSION:2.0
PRODID:-//wp-events-plugin.com//6.6.5//EN
BEGIN:VEVENT
UID:1161@suomenniemi.fi
DTSTART:20260907T110000Z
DTEND:20260907T130000Z
DTSTAMP:20260420T083613Z
URL:https://suomenniemi.fi/tapahtumat/kasityokerho-klo-13-kylatuvalla-13/
SUMMARY:Käsityökerho klo 13 Kylätuvalla
DESCRIPTION:Käsityökerho\nAika: Maanantaina 7.9.2026 klo 13\n\nPaikka: Ky
 lätupa\, Kirkonkyläntie 17\n\nJärjestäjä: Suomenniemen käsityökerho
END:VEVENT
END:VCALENDAR