BEGIN:VCALENDAR
VERSION:2.0
PRODID:-//wp-events-plugin.com//6.6.5//EN
BEGIN:VEVENT
UID:863@suomenniemi.fi
DTSTART;TZID=Asia/Aden:20241221T140000
DTEND;TZID=Asia/Aden:20241221T150000
DTSTAMP:20241127T085949Z
URL:https://suomenniemi.fi/tapahtumat/karjalan-laulu-veikkojen-joulukonser
 tti-klo-14-kirkossa/
SUMMARY:Karjalan Laulu-Veikkojen joulukonsertti klo 14 kirkossa
DESCRIPTION:Karjalan Laulu-Veikkojen joulukonsertti\nAika: Lauantaina 21.12
 .2024 klo 14\n\nPaikka: Suomenniemen kirkko\n\nRauhoitu Karjalan Laulu-Vei
 kkojen kanssa joulunviettoon konsertissa\, jossa mieskuoro esittävää ka
 ttauksen perinteisiä joululauluja höystettynä uusilla ja tulevilla klas
 sikoilla. Luvassa on niin seesteistä joulun tunnelmaa kuin vauhdikasta po
 rokyytiä.\n\nJärjestäjä: Suomenniemen alueseurakunta
END:VEVENT
BEGIN:VTIMEZONE
TZID:Asia/Aden
X-LIC-LOCATION:Asia/Aden
BEGIN:STANDARD
DTSTART:20231222T140000
TZOFFSETFROM:+0300
TZOFFSETTO:+0300
TZNAME:+03
END:STANDARD
END:VTIMEZONE
END:VCALENDAR