BEGIN:VCALENDAR
VERSION:2.0
PRODID:-//wp-events-plugin.com//6.6.5//EN
BEGIN:VEVENT
UID:1174@suomenniemi.fi
DTSTART:20260427T080000Z
DTEND:20260427T083000Z
DTSTAMP:20260422T083609Z
URL:https://suomenniemi.fi/tapahtumat/kansallisen-veteraanipaivan-seppelee
 nlasku-klo-10-sankarihautausmaalla/
SUMMARY:Kansallisen Veteraanipäivän seppeleenlasku klo 10 sankarihautausm
 aalla
DESCRIPTION:
END:VEVENT
END:VCALENDAR