BEGIN:VCALENDAR
VERSION:2.0
PRODID:-//wp-events-plugin.com//6.6.5//EN
BEGIN:VEVENT
UID:709@suomenniemi.fi
DTSTART;TZID=Asia/Aden:20240622T100000
DTEND;TZID=Asia/Aden:20240622T110000
DTSTAMP:20240516T075321Z
URL:https://suomenniemi.fi/tapahtumat/juhannuspaivan-jumalanpalvelus-klo-1
 0-kirkossa/
SUMMARY:Juhannuspäivän jumalanpalvelus klo 10 kirkossa
DESCRIPTION:Juhannuspäivän jumalanpalvelus\n\nAika: lauantaina 22.6.2024 
 klo 10\n\nPaikka: Suomenniemen kirkko\, Suomenkyläntie 12\n\nTervetuloa j
 uhannuspäivän jumalanpalvelukseen!\n\nJärjestäjä: Suomenniemen aluese
 urakunta
END:VEVENT
BEGIN:VTIMEZONE
TZID:Asia/Aden
X-LIC-LOCATION:Asia/Aden
BEGIN:STANDARD
DTSTART:20230623T100000
TZOFFSETFROM:+0300
TZOFFSETTO:+0300
TZNAME:+03
END:STANDARD
END:VTIMEZONE
END:VCALENDAR