BEGIN:VCALENDAR
VERSION:2.0
PRODID:-//wp-events-plugin.com//6.6.5//EN
BEGIN:VEVENT
UID:443@suomenniemi.fi
DTSTART;TZID=Asia/Aden:20221224T150000
DTEND;TZID=Asia/Aden:20221224T160000
DTSTAMP:20221221T065729Z
URL:https://suomenniemi.fi/tapahtumat/jouluaaton-hartaus-kirkossa-klo-15/
SUMMARY:Jouluaaton hartaus kirkossa klo 15
DESCRIPTION:Jouluaaton hartaus\nAika: lauantaina 24.12.2022 klo 15\n\nPaikk
 a: Suomenniemen kirkko\n\nJärjestäjä: Suomenniemen alueseurakunta
END:VEVENT
BEGIN:VTIMEZONE
TZID:Asia/Aden
X-LIC-LOCATION:Asia/Aden
BEGIN:STANDARD
DTSTART:20211224T150000
TZOFFSETFROM:+0300
TZOFFSETTO:+0300
TZNAME:+03
END:STANDARD
END:VTIMEZONE
END:VCALENDAR