BEGIN:VCALENDAR
VERSION:2.0
PRODID:-//wp-events-plugin.com//6.6.5//EN
BEGIN:VEVENT
UID:564@suomenniemi.fi
DTSTART;TZID=Asia/Aden:20231206T100000
DTEND;TZID=Asia/Aden:20231206T113000
DTSTAMP:20231009T080031Z
URL:https://suomenniemi.fi/tapahtumat/itsenaisyyspaivan-sanajumalanpalvelu
 s-ja-seppeleidenlasku-klo-10/
SUMMARY:Itsenäisyyspäivän sanajumalanpalvelus ja seppeleidenlasku klo 10
DESCRIPTION:Itsenäisyyspäivän sanajumalanpalvelus ja seppeleidenlasku\nA
 ika: keskiviikkona 6.12.2023 klo 10\n\nItsenäisyyspäivän sanajumalanpal
 velus klo 10 kirkossa\, jonka jälkeen seppeleenlasku sankarihaudoille.\n\
 nJärj. Suomenniemen alueseurakunta ja Suomenniemen aluejohtokunta
END:VEVENT
BEGIN:VTIMEZONE
TZID:Asia/Aden
X-LIC-LOCATION:Asia/Aden
BEGIN:STANDARD
DTSTART:20221206T100000
TZOFFSETFROM:+0300
TZOFFSETTO:+0300
TZNAME:+03
END:STANDARD
END:VTIMEZONE
END:VCALENDAR