BEGIN:VCALENDAR
VERSION:2.0
PRODID:-//wp-events-plugin.com//6.6.5//EN
BEGIN:VEVENT
UID:453@suomenniemi.fi
DTSTART;TZID=Asia/Aden:20230409T140000
DTEND;TZID=Asia/Aden:20230409T160000
DTSTAMP:20230213T061507Z
URL:https://suomenniemi.fi/tapahtumat/aukko-naytelma-klo-14-3/
SUMMARY:Aukko-näytelmä klo 14
DESCRIPTION:Suomenniemen Nuorisoseurateatteri esittää  Salla Viikan kirj
 oittaman ja Sami Sivosen ohjaaman kahvinmustan komedian ”Aukko”\, joka
  kertoo sukupolvien eroista ja halusta tulla ymmärretyksi. Näytelmä nos
 taa valokeilaan kaksi monitahoista hahmoa\; eläkeikää lähestyvän Nais
 en ja työuransa alussa olevan Tytön sekä heidän eriävät ja yllättä
 vän yhteneväiset odotuksensa työympäristön kiemuroissa.\n\nAukko-näy
 telmän esitys\nAika: sunnuntaina 9.4.2023 klo 14\n\nEsityspaikka: Suomen
 niemen nuorisoseurantalo\, Kirkonkyläntie 15\, Suomenniemi\n\nLiput: 20 e
 uroa\, väliaikatarjoilu 5 euroa\,  sis. kahvi/tee/mehu ja suolainen/makea
  kahvileipä\n\nTiedutelut ja lippuvaraukset: puh. 0400 405 280\n\n&nbsp\;
 \n\n&nbsp\;\n\n&nbsp\;
END:VEVENT
BEGIN:VTIMEZONE
TZID:Asia/Aden
X-LIC-LOCATION:Asia/Aden
BEGIN:STANDARD
DTSTART:20220409T140000
TZOFFSETFROM:+0300
TZOFFSETTO:+0300
TZNAME:+03
END:STANDARD
END:VTIMEZONE
END:VCALENDAR