BEGIN:VCALENDAR
VERSION:2.0
PRODID:-//wp-events-plugin.com//6.6.5//EN
BEGIN:VEVENT
UID:565@suomenniemi.fi
DTSTART;TZID=Asia/Aden:20231209T130000
DTEND;TZID=Asia/Aden:20231209T150000
DTSTAMP:20231009T080036Z
URL:https://suomenniemi.fi/tapahtumat/annikin-paivat-klo-13-jussilassa/
SUMMARY:Annikin päivät klo 13 Jussilassa
DESCRIPTION:Annikin päivät\nAika: lauantaina 9.12.2023 klo 13\n\nPaikka: 
 Jussilan talo\, Rantasuontie 10\n\nOhjelmassa joululauluja sekä joulupuur
 o- ja kahvitarjoilu.\n\nJärjestäjät: Saalasti Sisarukset -säätiö ja 
 Kiesilä-Pajulahti-Kakkola kyläyhdistys ry
END:VEVENT
BEGIN:VTIMEZONE
TZID:Asia/Aden
X-LIC-LOCATION:Asia/Aden
BEGIN:STANDARD
DTSTART:20221209T130000
TZOFFSETFROM:+0300
TZOFFSETTO:+0300
TZNAME:+03
END:STANDARD
END:VTIMEZONE
END:VCALENDAR