BEGIN:VCALENDAR
VERSION:2.0
PRODID:-//wp-events-plugin.com//6.6.5//EN
BEGIN:VEVENT
UID:1170@suomenniemi.fi
DTSTART;VALUE=DATE:20260527
DTEND;VALUE=DATE:20260528
DTSTAMP:20260422T070507Z
URL:https://suomenniemi.fi/tapahtumat/alueseurakuntien-kevatretki-lahteen-
 lahto-klo-7-25/
SUMMARY:Alueseurakuntien kevätretki Lahteen\, lähtö klo 7.25
DESCRIPTION:
END:VEVENT
END:VCALENDAR